Workbook

Sheet Sheet1
A1: 贷后受理机构预约电话及地址
A2: 序号 | B2: 分行 | C2: 贷款经办机构名称 | D2: 贷款经办机构联行号 | E2: 对应的贷后受理机构名称 | F2: 贷后受理机构地址 | G2: 贷后受理机构电话 | H2: 贷后受理 工作时间 | I2: 备注
A3: 1 | B3: 广州分行 | C3: 挂绿湖支行 | D3: 764011 | E3: 挂绿湖支行 | F3: 广州市增城区荔湖街新城大道325号 | G3: 020-82467190 | H3: 工作日：8:30-17:30
A4: 2 | B4: 广州分行 | C4: 肇庆分行营业部 | D4: 749601 | E4: 肇庆分行营业部 | F4: 肇庆市端州区星湖大道9号恒裕海湾综合楼三楼 | G4: 0758-2109122 0758-2109102 | H4: 工作日：9:00-17:30
A5: 3 | B5: 广州分行 | C5: 肇庆分行四会支行 | D5: 749611 | E5: 肇庆分行四会支行 | F5: 肇庆市四会市康宁路东海明珠豪庭16座54号 | G5: 0758-3373787 | H5: 工作日：9:00-17:30
A6: 4 | B6: 广州分行 | C6: 花都支行 | D6: 744491 | E6: 花都支行 | F6: 广州市花都区新华街迎宾大道68号 | G6: 020-36918396 | H6: 工作日：9:00-17:30
A7: 5 | B7: 广州分行 | C7: 北京路支行 | D7: 744340 | E7: 北京路支行 | F7: 广州市越秀区广卫路10号 | G7: 020-83327902 | H7: 工作日：9:00-17:00
A8: 6 | B8: 广州分行 | C8: 江门分行营业部 | D8: 749101 | E8: 江门分行营业部 | F8: 江门市蓬江区迎宾大道中131号中信银行大厦一楼 | G8: 0750-3939018 | H8: 工作日：9:00-18:00
A9: 7 | B9: 广州分行 | C9: 江门分行新会支行 | D9: 749111 | E9: 江门分行新会支行 | F9: 江门市新会区会城冈州大道中1号 | G9: 0750-6633208 | H9: 工作日：9:00-18:00
A10: 8 | B10: 广州分行 | C10: 江门分行北新支行 | D10: 749121 | E10: 江门分行北新支行 | F10: 江门市蓬江区发展大道188号金凯悦大酒店1楼 | G10: 0750-3939327 | H10: 工作日：9:00-18:00
A11: 9 | B11: 广州分行 | C11: 江门分行鹤山支行 | D11: 749131 | E11: 江门分行鹤山支行 | F11: 鹤山市沙坪镇东升路75号第1、2层 | G11: 0750-8202220 | H11: 工作日：9:00-18:00
A12: 10 | B12: 广州分行 | C12: 高德支行 | D12: 744551 | E12: 高德支行 | F12: 广州市天河区花城大道55号方圆月岛首层 | G12: 020-38051753 | H12: 工作日：9:00-17:00
A13: 11 | B13: 广州分行 | C13: 茂名分行营业部 | D13: 749901 | E13: 茂名分行营业部 | F13: 茂名市茂南区西粤南路188号大院时代广场 | G13: 0668-3330830 | H13: 工作日：9:00-17:00
A14: 12 | B14: 广州分行 | C14: 珠江新城支行 | D14: 744431 | E14: 珠江新城支行 | F14: 广州市天河区金穗路32号星汇园首层 | G14: 020-85275392 020-85273132 | H14: 工作日：9:00-17:00
A15: 13 | B15: 广州分行 | C15: 中国大酒店支行 | D15: 744380 | E15: 中国大酒店支行 | F15: 广州市越秀区解放北路122号中国大酒店D座首层 | G15: 18002692771 | H15: 工作日：8:30-17:30
A16: 14 | B16: 广州分行 | C16: 广东自贸试验区横琴分行 | D16: 749991 | E16: 广东自贸试验区横琴分行 | F16: 珠海市香洲区横琴镇天河街11号 | G16: 0756-2993210 | H16: 工作日：9:00-18:00
A17: 15 | B17: 广州分行 | C17: 海珠支行 | D17: 744360 | E17: 海珠支行 | F17: 广州市海珠区江南大道中路134-5号 | G17: 020-84262443 | H17: 工作日：9:00-18:00
A18: 16 | B18: 广州分行 | C18: 阳江分行营业部 | D18: 749201 | E18: 阳江分行营业部 | F18: 广东省阳江市江城区东风三路166号阳江分行 | G18: 0662-8188220 | H18: 工作日：9:00-18:00
A19: 17 | B19: 广州分行 | C19: 黄埔支行 | D19: 744541 | E19: 黄埔支行 | F19: 广州市黄埔区黄埔东路193号首层 | G19: 020-82391456 | H19: 工作日：9:00-17:00
A20: 18 | B20: 广州分行 | C20: 白云支行 | D20: 744421 | E20: 白云支行 | F20: 广州市白云区齐富路明珠路归南1号名汇广场首层 | G20: 020-36139522 | H20: 工作日：9:00-17:00
A21: 19 | B21: 广州分行 | C21: 分行营业部 | D21: 744302 | E21: 分行营业部 | F21: 广州市天河区天北路233号中信广场东附楼首二层中信银行广州分行营业部 | G21: 020-38911042 | H21: 工作日：9:00-17:00
A22: 20 | B22: 广州分行 | C22: 珠海分行营业部 | D22: 749501 | E22: 珠海分行营业部 | F22: 广东省珠海市香洲区吉大景山路1号观海名居首二层 | G22: 0756-3292906 | H22: 工作日：9:00-18:00
A23: 21 | B23: 广州分行 | C23: 拱北支行 | D23: 749511 | E23: 拱北支行 | F23: 广东省珠海市拱北昌盛路76号、76号101、78号、80号商铺 | G23: 0756-8717006 | H23: 工作日：9:00-18:00
A24: 22 | B24: 广州分行 | C24: 华发新城支行 | D24: 749521 | E24: 华发新城支行 | F24: 广东广东省珠海市珠海大道6号101、102、201、202号商铺 | G24: 0756-8335518 | H24: 工作日：9:00-18:00
A25: 23 | B25: 广州分行 | C25: 莲花路支行 | D25: 749541 | E25: 莲花路支行 | F25: 珠海市拱北莲花路3号首层部分、2层 | G25: 0756-8717091 | H25: 工作日：9:00-18:00
A26: 24 | B26: 广州分行 | C26: 五洲花城支行 | D26: 749531 | E26: 五洲花城支行 | F26: 珠海市香洲区文园路130号、文园路132号及银桦路400号13栋部分物业 | G26: 0756-2628043 | H26: 工作日：9:00-18:00
A27: 25 | B27: 广州分行 | C27: 体育中心支行 | D27: 749551 | E27: 体育中心支行 | F27: 珠海市香洲健民路147号副楼第一层、二层 | G27: 0756-2882671 | H27: 工作日：9:00-18:00
A28: 26 | B28: 广州分行 | C28: 滨江东支行 | D28: 744511 | E28: 滨江东支行 | F28: 广州市海珠区滨江东路211号滨江明珠苑 | G28: 020-89269824 | H28: 工作日：9:00-18:00
A29: 27 | B29: 广州分行 | C29: 花园支行 | D29: 744390 | E29: 花园支行 | F29: 广州市天河区珠江新城华就路12号三银大厦首层 | G29: 020-85503015 | H29: 工作日：9:00-17:00
A30: 28 | B30: 广州分行 | C30: 万博支行 | D30: 764031 | E30: 万博支行 | F30: 广州市番禺区南村镇番禺大道北83号北侧首、二层 | G30: 020-39115585 | H30: 工作日：9:00-17:00
A31: 29 | B31: 广州分行 | C31: 环市支行 | D31: 744310 | E31: 环市支行 | F31: 广州市越秀区环市东水荫路2号恒鑫大厦首层 | G31: 020-38306737 020-37606079 020-38306785 | H31: 工作日：9:00-17:00
A32: 30 | B32: 广州分行 | C32: 天河支行 | D32: 744320 | E32: 天河支行 | F32: 广州市天河区黄埔大道西269号首层 | G32: 020-38471732 020-38472152 | H32: 工作日：9:00-18:00
A33: 31 | B33: 广州分行 | C33: 北秀支行 | D33: 744330 | E33: 北秀支行 | F33: 广州市越秀区东风中路363号国信大厦 | G33: 020-83604399 | H33: 工作日：9:00-18:00
A34: 32 | B34: 广州分行 | C34: 荔湾支行 | D34: 744531 | E34: 荔湾支行 | F34: 广州市荔湾区康王中路486号和业广场1楼 | G34: 020-81715519 | H34: 工作日：9:00-18:00
A35: 33 | B35: 广州分行 | C35: 双塔支行 | D35: 744581 | E35: 双塔支行 | F35: 广州市海珠区艺苑路213号 | G35: 020-34086125 | H35: 工作日：9:00-17:30
A36: 34 | B36: 广州分行 | C36: 东莞分行营业部 | D36: 744800 | E36: 东莞分行营业部 | F36: 东莞市南城区鸿福路106号南峰中心 | G36: 0769-22660466 | H36: 工作日：9:00-17:00
A37: 35 | B37: 广州分行 | C37: 东莞分行长安支行 | D37: 744811 | E37: 东莞分行长安支行 | F37: 东莞市长安镇东门路长怡停车场首层 | G37: 0769-81668609 | H37: 工作日：9:00-17:00
A38: 36 | B38: 广州分行 | C38: 东莞分行常平支行 | D38: 744821 | E38: 分行东莞分行常平支行 | F38: 东莞市常平镇常平大道星汇中心 | G38: 0769-83029990 | H38: 工作日：9:00-17:00
A39: 37 | B39: 广州分行 | C39: 东莞分行南城支行 | D39: 744831 | E39: 分行东莞分行南城支行 | F39: 东莞市南城区鸿福西路76号南城商务大厦首层 | G39: 0769-22819281 | H39: 工作日：9:00-17:00
A40: 38 | B40: 广州分行 | C40: 东莞分行塘厦支行 | D40: 744841 | E40: 分行东莞分行塘厦支行 | F40: 东莞市塘厦镇环市东路1号东港城花园 | G40: 0769-87283898 | H40: 工作日：9:00-17:00
...
