Workbook

Sheet Sheet1
A1: 贷后受理机构预约电话及地址
A2: 序号 | B2: 分行 | C2: 贷款经办机构名称 | D2: 贷款经办机构联行号 | E2: 对应的贷后受理机构名称 | F2: 贷后受理机构地址 | G2: 贷后受理机构电话 | H2: 贷后受理 工作时间 | I2: 备注
A3: 1 | B3: 广州分行 | C3: 挂绿湖支行 | D3: 764011 | E3: 挂绿湖支行 | F3: 广州市增城区荔湖街新城大道325号 | G3: 020-82467190 | H3: 工作日：8:30-17:30
A4: 2 | B4: 广州分行 | C4: 肇庆分行营业部 | D4: 749601 | E4: 肇庆分行营业部 | F4: 肇庆市端州区星湖大道9号恒裕海湾综合楼三楼 | G4: 0758-2109122 0758-2109102 | H4: 工作日：9:00-17:30
A5: 3 | B5: 广州分行 | C5: 肇庆分行四会支行 | D5: 749611 | E5: 肇庆分行四会支行 | F5: 肇庆市四会市康宁路东海明珠豪庭16座54号 | G5: 0758-3373787 | H5: 工作日：9:00-17:30
A6: 4 | B6: 广州分行 | C6: 花都支行 | D6: 744491 | E6: 花都支行 | F6: 广州市花都区新华街迎宾大道68号 | G6: 020-36918396 | H6: 工作日：9:00-17:30
A7: 5 | B7: 广州分行 | C7: 北京路支行 | D7: 744340 | E7: 北京路支行 | F7: 广州市越秀区广卫路10号 | G7: 020-83327902 | H7: 工作日：9:00-17:00
A8: 6 | B8: 广州分行 | C8: 江门分行营业部 | D8: 749101 | E8: 江门分行营业部 | F8: 江门市蓬江区迎宾大道中131号中信银行大厦一楼 | G8: 0750-3939018 | H8: 工作日：9:00-18:00
A9: 7 | B9: 广州分行 | C9: 江门分行新会支行 | D9: 749111 | E9: 江门分行新会支行 | F9: 江门市新会区会城冈州大道中1号 | G9: 0750-6633208 | H9: 工作日：9:00-18:00
A10: 8 | B10: 广州分行 | C10: 江门分行北新支行 | D10: 749121 | E10: 江门分行北新支行 | F10: 江门市蓬江区发展大道188号金凯悦大酒店1楼 | G10: 0750-3939327 | H10: 工作日：9:00-18:00
A11: 9 | B11: 广州分行 | C11: 江门分行鹤山支行 | D11: 749131 | E11: 江门分行鹤山支行 | F11: 鹤山市沙坪镇东升路75号第1、2层 | G11: 0750-8202220 | H11: 工作日：9:00-18:00
A12: 10 | B12: 广州分行 | C12: 高德支行 | D12: 744551 | E12: 高德支行 | F12: 广州市天河区花城大道55号方圆月岛首层 | G12: 020-38051753 | H12: 工作日：9:00-17:00
A13: 11 | B13: 广州分行 | C13: 茂名分行营业部 | D13: 749901 | E13: 茂名分行营业部 | F13: 茂名市茂南区西粤南路188号大院时代广场 | G13: 0668-3330830 | H13: 工作日：9:00-17:00
A14: 12 | B14: 广州分行 | C14: 珠江新城支行 | D14: 744431 | E14: 珠江新城支行 | F14: 广州市天河区金穗路32号星汇园首层 | G14: 020-85275392 020-85273132 | H14: 工作日：9:00-17:00
A15: 13 | B15: 广州分行 | C15: 中国大酒店支行 | D15: 744380 | E15: 中国大酒店支行 | F15: 广州市越秀区解放北路122号中国大酒店D座首层 | G15: 18002692771 | H15: 工作日：8:30-17:30
A16: 14 | B16: 广州分行 | C16: 广东自贸试验区横琴分行 | D16: 749991 | E16: 广东自贸试验区横琴分行 | F16: 珠海市香洲区横琴镇天河街11号 | G16: 0756-2993210 | H16: 工作日：9:00-18:00
A17: 15 | B17: 广州分行 | C17: 海珠支行 | D17: 744360 | E17: 海珠支行 | F17: 广州市海珠区江南大道中路134-5号 | G17: 020-84262443 | H17: 工作日：9:00-18:00
A18: 16 | B18: 广州分行 | C18: 阳江分行营业部 | D18: 749201 | E18: 阳江分行营业部 | F18: 广东省阳江市江城区东风三路166号阳江分行 | G18: 0662-8188220 | H18: 工作日：9:00-18:00
A19: 17 | B19: 广州分行 | C19: 黄埔支行 | D19: 744541 | E19: 黄埔支行 | F19: 广州市黄埔区黄埔东路193号首层 | G19: 020-82391456 | H19: 工作日：9:00-17:00
A20: 18 | B20: 广州分行 | C20: 白云支行 | D20: 744421 | E20: 白云支行 | F20: 广州市白云区齐富路明珠路归南1号名汇广场首层 | G20: 020-36139522 | H20: 工作日：9:00-17:00
A21: 19 | B21: 广州分行 | C21: 分行营业部 | D21: 744302 | E21: 分行营业部 | F21: 广州市天河区天北路233号中信广场东附楼首二层中信银行广州分行营业部 | G21: 020-38911042 | H21: 工作日：9:00-17:00
A22: 20 | B22: 广州分行 | C22: 珠海分行营业部 | D22: 749501 | E22: 珠海分行营业部 | F22: 广东省珠海市香洲区吉大景山路1号观海名居首二层 | G22: 0756-3292906 | H22: 工作日：9:00-18:00
A23: 21 | B23: 广州分行 | C23: 拱北支行 | D23: 749511 | E23: 拱北支行 | F23: 广东省珠海市拱北昌盛路76号、76号101、78号、80号商铺 | G23: 0756-8717006 | H23: 工作日：9:00-18:00
A24: 22 | B24: 广州分行 | C24: 华发新城支行 | D24: 749521 | E24: 华发新城支行 | F24: 广东广东省珠海市珠海大道6号101、102、201、202号商铺 | G24: 0756-8335518 | H24: 工作日：9:00-18:00
A25: 23 | B25: 广州分行 | C25: 莲花路支行 | D25: 749541 | E25: 莲花路支行 | F25: 珠海市拱北莲花路3号首层部分、2层 | G25: 0756-8717091 | H25: 工作日：9:00-18:00
A26: 24 | B26: 广州分行 | C26: 五洲花城支行 | D26: 749531 | E26: 五洲花城支行 | F26: 珠海市香洲区文园路130号、文园路132号及银桦路400号13栋部分物业 | G26: 0756-2628043 | H26: 工作日：9:00-18:00
A27: 25 | B27: 广州分行 | C27: 体育中心支行 | D27: 749551 | E27: 体育中心支行 | F27: 珠海市香洲健民路147号副楼第一层、二层 | G27: 0756-2882671 | H27: 工作日：9:00-18:00
A28: 26 | B28: 广州分行 | C28: 滨江东支行 | D28: 744511 | E28: 滨江东支行 | F28: 广州市海珠区滨江东路211号滨江明珠苑 | G28: 020-89269824 | H28: 工作日：9:00-18:00
A29: 27 | B29: 广州分行 | C29: 花园支行 | D29: 744390 | E29: 花园支行 | F29: 广州市天河区珠江新城华就路12号三银大厦首层 | G29: 020-85503015 | H29: 工作日：9:00-17:00
A30: 28 | B30: 广州分行 | C30: 万博支行 | D30: 764031 | E30: 万博支行 | F30: 广州市番禺区南村镇番禺大道北83号北侧首、二层 | G30: 020-39115585 | H30: 工作日：9:00-17:00
A31: 29 | B31: 广州分行 | C31: 环市支行 | D31: 744310 | E31: 环市支行 | F31: 广州市越秀区环市东水荫路2号恒鑫大厦首层 | G31: 020-38306737 020-37606079 020-38306785 | H31: 工作日：9:00-17:00
A32: 30 | B32: 广州分行 | C32: 天河支行 | D32: 744320 | E32: 天河支行 | F32: 广州市天河区黄埔大道西269号首层 | G32: 020-38471732 020-38472152 | H32: 工作日：9:00-18:00
A33: 31 | B33: 广州分行 | C33: 北秀支行 | D33: 744330 | E33: 北秀支行 | F33: 广州市越秀区东风中路363号国信大厦 | G33: 020-83604399 | H33: 工作日：9:00-18:00
A34: 32 | B34: 广州分行 | C34: 荔湾支行 | D34: 744531 | E34: 荔湾支行 | F34: 广州市荔湾区康王中路486号和业广场1楼 | G34: 020-81715519 | H34: 工作日：9:00-18:00
A35: 33 | B35: 广州分行 | C35: 双塔支行 | D35: 744581 | E35: 双塔支行 | F35: 广州市海珠区艺苑路213号 | G35: 020-34086125 | H35: 工作日：9:00-17:30
A36: 34 | B36: 广州分行 | C36: 东莞分行营业部 | D36: 744800 | E36: 东莞分行营业部 | F36: 东莞市南城区鸿福路106号南峰中心 | G36: 0769-22660466 | H36: 工作日：9:00-17:00
A37: 35 | B37: 广州分行 | C37: 东莞分行长安支行 | D37: 744811 | E37: 东莞分行长安支行 | F37: 东莞市长安镇东门路长怡停车场首层 | G37: 0769-81668609 | H37: 工作日：9:00-17:00
A38: 36 | B38: 广州分行 | C38: 东莞分行常平支行 | D38: 744821 | E38: 分行东莞分行常平支行 | F38: 东莞市常平镇常平大道星汇中心 | G38: 0769-83029990 | H38: 工作日：9:00-17:00
A39: 37 | B39: 广州分行 | C39: 东莞分行南城支行 | D39: 744831 | E39: 分行东莞分行南城支行 | F39: 东莞市南城区鸿福西路76号南城商务大厦首层 | G39: 0769-22819281 | H39: 工作日：9:00-17:00
A40: 38 | B40: 广州分行 | C40: 东莞分行塘厦支行 | D40: 744841 | E40: 分行东莞分行塘厦支行 | F40: 东莞市塘厦镇环市东路1号东港城花园 | G40: 0769-87283898 | H40: 工作日：9:00-17:00
A41: 39 | B41: 广州分行 | C41: 东莞分行北区支行 | D41: 744851 | E41: 东莞分行北区支行 | F41: 东莞市石碣镇盈翠豪园商铺A65-72号 | G41: 0769-81326112 | H41: 工作日：9:00-17:00
A42: 40 | B42: 广州分行 | C42: 东莞分行虎门支行 | D42: 744861 | E42: 东莞分行虎门支行 | F42: 东莞市虎门镇虎门大道中科数码城首层 | G42: 0769-85013011 | H42: 工作日：9:00-17:00
A43: 41 | B43: 广州分行 | C43: 东莞分行厚街支行 | D43: 744871 | E43: 东莞分行厚街支行 | F43: 东莞市厚街镇体育路香榭丽商铺33号 | G43: 0769-81696691 | H43: 工作日：9:00-17:00
A44: 42 | B44: 广州分行 | C44: 东莞分行东城支行 | D44: 744891 | E44: 东莞分行东城支行 | F44: 东莞市东城区南四环路景湖花园大门口右侧 | G44: 0769-23129290 | H44: 工作日：9:00-17:00
A45: 43 | B45: 广州分行 | C45: 东莞分行大朗支行 | D45: 744901 | E45: 东莞分行大朗支行 | F45: 东莞市大朗镇松佛路碧水天源售楼处 | G45: 0769-82220089 | H45: 工作日：9:00-17:00
A46: 44 | B46: 广州分行 | C46: 东莞分行万江支行 | D46: 744911 | E46: 东莞分行万江支行 | F46: 东莞市万江区万道路阳光海岸一期四幢商铺 | G46: 0769-21660661 | H46: 工作日：9:00-17:00
A47: 45 | B47: 广州分行 | C47: 东莞分行石龙支行 | D47: 744921 | E47: 东莞分行石龙支行 | F47: 东莞市石龙镇京瓷路138号冠龙华府商铺132-137号 | G47: 0769-81389006 | H47: 工作日：9:00-17:00
... A64: 62 | B64: 广州分行 | C64: 东莞分行世博广场支行 | D64: 752191 | E64: 东莞分行世博广场支行 | F64: 东莞市东城区世博广场H区首层1105-1107号商铺 | G64: 0769-28330133 | H64: 工作日：9:00-17:00
A65: 63 | B65: 广州分行 | C65: 国际大厦支行 | D65: 744411 | E65: 国际大厦支行 | F65: 广州市越秀区环市东路339号广东国际大厦首层 | G65: 020-83195098 | H65: 工作日：9:00-18:00
A66: 64 | B66: 广州分行 | C66: 广东自贸试验区南沙分行 | D66: 744451 | E66: 广东自贸试验区南沙分行 | F66: 广州市南沙区南沙城品汇街20号 | G66: 020-39006964 | H66: 工作日：9:00-17:00
A67: 65 | B67: 广州分行 | C67: 分行流花路支行 | D67: 764061 | E67: 分行流花路支行 | F67: 广州市荔湾区流花路85号二楼 | G67: 020-83772024 | H67: 工作日：9:00-18:00
A68: 66 | B68: 广州分行 | C68: 东风支行（筹） | E68: 东风支行（筹） | F68: 广州市天河区天河北路233号 | G68: 020-38912168 | H68: 工作日：9:00-18:00
A69: 67 | B69: 广州分行 | C69: 宝岗大道支行 | D69: 744571 | E69: 分行宝岗大道支行 | F69: 广州市海珠区宝岗大道934号 | G69: 020-87520582 | H69: 工作日：9:00-18:00
A70: 68 | B70: 广州分行 | C70: 惠州分行营业部 | D70: 749301 | E70: 惠州分行营业部 | F70: 惠州市惠城区江北文华一路2号大隆大厦（二期）首层、五层 | G70: 0752-2898807 | H70: 工作日：9:00-17:00
A71: 69 | B71: 广州分行 | C71: 开发区支行 | D71: 744441 | E71: 开发区支行 | F71: 广州市黄埔区科学城彩频路11号广东软件园B102房 | G71: 020-32201460 | H71: 工作日：9:00-16:30
A72: 70 | B72: 广州分行 | C72: 科技园支行营业部 | D72: 744481 | E72: 科技园支行 | F72: 广州市天河区天府路161号隽园101 | G72: 020-38399907 | H72: 工作日：9:00-17:00
A73: 71 | B73: 广州分行 | C73: 市桥支行 | D73: 744461 | E73: 市桥支行 | F73: 广州市番禺区市桥街富华东路27-33号1-2层 | G73: 020-34516813 | H73: 工作日：9:00-18:00
A74: 72 | B74: 广州分行 | C74: 增城支行 | D74: 744471 | E74: 增城支行 | F74: 广州市增城区荔城街荔乡路81号首二层 | G74: 020-82668953 | H74: 工作日：8:30-17:30
A75: 73 | B75: 广州分行 | C75: 番禺支行 | D75: 744401 | E75: 番禺支行 | F75: 广州市番禺区清河东路罗家村段4号番禺支行 | G75: 020-34617405 | H75: 工作日：9:00-17:00
A76: 74 | B76: 广州分行 | C76: 中山分行营业部 | D76: 744601 | E76: 中山分行营业部 | F76: 中山市东区中山四路82号之二 | G76: 0760-88366666 | H76: 工作日：9:00-17:00
A77: 75 | B77: 广州分行 | C77: 中山分行三乡支行 | D77: 744611 | E77: 中山分行三乡支行 | F77: 中山市三乡镇景观大道雅居乐新城十期1区22-24卡 | G77: 0760-86380711 | H77: 工作日：9:00-17:30
A78: 76 | B78: 广州分行 | C78: 中山分行小榄支行 | D78: 744621 | E78: 中山分行小榄支行 | F78: 中山市小榄镇民安中路123号 | G78: 0760-22589322 | H78: 工作日：9:00-12:00；14:00-17:00
A79: 77 | B79: 广州分行 | C79: 中山分行西区支行 | D79: 744631 | E79: 中山分行西区支行 | F79: 中山市西区富华道32天悦广场4-7卡 | G79: 0760-89892099 | H79: 工作日：9:00-18:00
A80: 78 | B80: 广州分行 | C80: 中山分行古镇支行 | D80: 744641 | E80: 中山分行古镇支行 | F80: 中山市古镇镇中兴大道光立方LED城首层 | G80: 0760-85852599 | H80: 工作日：9:00-18:00
... A95: 93 | B95: 广州分行 | C95: 凤凰城支行 | D95: 744561 | E95: 凤凰城支行 | F95: 广州市增城区新塘镇凤凰城碧桂园商业街东门309_310 | G95: 020-26226886 | H95: 工作日：9:00-18:00
A96: 94 | B96: 广州分行 | C96: 琶洲支行 | D96: 764071 | E96: 琶洲支行 | F96: 广州市海珠区宸悦路5号101房 | G96: 020-31950940 15602203155 | H96: 工作日：9:00-17:00
A97: 95 | B97: 广州分行 | C97: 汕头分行营业部 | D97: 749701 | E97: 汕头分行营业部 | F97: 汕头市龙湖区龙光世纪大厦102号 | G97: 0754-89997812 0754-89997840 | H97: 工作日：9:00-17:00
A98: 96 | B98: 广州分行 | C98: 惠州博罗支行 | D98: 749341 | E98: 惠州博罗支行 | F98: 惠州市博罗县罗阳镇罗阳二路兆桂园一楼惠州博罗支行 | G98: 0752-6286616 | H98: 工作日：9:00-17:00
A99: 97 | B99: 广州分行 | C99: 惠州惠城支行 | D99: 749311 | E99: 惠州惠城支行 | F99: 惠州市惠城区麦地东路8号 | G99: 0752-2521768 | H99: 工作日：9:00-17:00
A100: 98 | B100: 广州分行 | C100: 惠州惠阳支行 | D100: 749321 | E100: 惠州惠阳支行 | F100: 惠州市惠阳区淡水镇金惠大道19号金惠大厦首层 | G100: 0752—3916339 | H100: 工作日：9:00-17:00
A101: 99 | B101: 广州分行 | C101: 惠州仲恺支行 | D101: 749331 | E101: 惠州仲恺支行 | F101: 惠州市仲恺高新区34号小区科融创业大厦一层 | G101: 0752-2898297 | H101: 工作日：9:00-17:00
A102: 100 | B102: 广州分行 | C102: 国防大厦支行 | D102: 764051 | E102: 国防大厦支行 | F102: 广州市天河区黄埔大道西888号国防大厦一楼 | G102: 020-38615356 | H102: 工作日：9:00-17:00
A103: 101 | B103: 广州分行 | C103: 越秀支行 | D103: 744350 | E103: 越秀支行 | F103: 广州市越秀区沿江东路408号 | G103: 020-83036882 020-83036883 020-83036886 | H103: 工作日：9:00-17:00
A104: 102 | B104: 贵阳分行 | C104: 分行营业部 | D104: 747111 | E104: 分行营业部 | F104: 贵阳市观山湖区长岭北路贵州金融城BL区北二塔中信大厦1楼 | G104: 0851-82599883 | H104: 工作日：9:00-12:00；14:00-17:00
A105: 103 | B105: 贵阳分行 | C105: 宝山支行 | D105: 747112 | E105: 宝山支行 | F105: 贵阳市云岩区宝山北路19号摩卡空间1楼 | G105: 0851-85637999 | H105: 工作日：9:00-12:00；14:00-17:00
A106: 104 | B106: 贵阳分行 | C106: 金阳支行 | D106: 747113 | E106: 金阳支行 | F106: 贵州省贵阳市观山湖区长岭北路国际会展中心A座 | G106: 0851-87717999 | H106: 工作日：9:00-12:00；14:00-17:00
A107: 105 | B107: 贵阳分行 | C107: 瑞金支行 | D107: 747114 | E107: 瑞金支行 | F107: 贵阳市云岩区瑞金北路116号 | G107: 0851-86577027 | H107: 工作日：9:00-12:00；14:00-17:00
A108: 106 | B108: 贵阳分行 | C108: 黔灵支行 | D108: 747115 | E108: 黔灵支行 | F108: 贵阳市云岩区枣山路雄骏国际大厦一楼 | G108: 18608512851 | H108: 工作日：9:00-12:00；14:00-17:00
A109: 107 | B109: 贵阳分行 | C109: 护国支行 | D109: 747116 | E109: 护国支行 | F109: 贵阳市南明区护国路13号名士大厦 | G109: 0851-85558860 | H109: 工作日：9:00-12:00；14:00-17:00
A110: 108 | B110: 贵阳分行 | C110: 公园路支行 | D110: 747117 | E110: 公园路支行 | F110: 贵阳市云岩区人民大道都市名园1楼 | G110: 0851-88517999 | H110: 工作日：9:00-12:00；14:00-17:00
A111: 109 | B111: 贵阳分行 | C111: 乌当支行 | D111: 747118 | E111: 乌当支行 | F111: 贵阳市乌当区新添大道北段99号新天卫城红景街区1幢1单元 | G111: 0851-86205604 | H111: 工作日：9:00-12:00；14:00-17:00
A112: 110 | B112: 贵阳分行 | C112: 花溪支行 | D112: 747119 | E112: 花溪支行 | F112: 贵阳市花溪区清溪路111号 | G112: 0851-83604560 | H112: 工作日：9:00-12:00；14:00-17:00
A113: 111 | B113: 贵阳分行 | C113: 鸿通城支行 | D113: 747120 | E113: 鸿通城支行 | F113: 贵阳市南明区沙冲路达高桥 | G113: 0851-85768310 | H113: 工作日：9:00-12:00；14:00-17:00
A114: 112 | B114: 贵阳分行 | C114: 新华路支行 | D114: 747121 | E114: 新华路支行 | F114: 贵州省贵阳市南明区新华路富中国际大厦一楼 | G114: 0851-86870333 | H114: 工作日：9:00-12:00；14:00-17:00
A115: 113 | B115: 贵阳分行 | C115: 分行个人信贷部 | D115: 747111 | E115: 分行个人信贷部 | F115: 贵阳市观山湖区长岭北路会展城B区北二塔中信银行大厦2楼个人信贷部 | G115: 0851-82599745 | H115: 工作日：9:00-12:00；14:00-17:00
A116: 114 | B116: 贵阳分行 | C116: 遵义分行营业部 | D116: 747301 | E116: 遵义分行营业部 | F116: 遵义市汇川区厦门路天安大厦 | G116: 0851-28322935 | H116: 工作日：9:00-12:00；14:00-17:00
A117: 115 | B117: 海口分行 | C117: 海口分行账务中心 | D117: 754001 | E117: 个人信贷部 | F117: 海南省海口市龙华区金贸中路1号半山花园2楼中信银行 | G117: 0898-68578425 | H117: 工作日：8:30-12:00；14:30-18：00（备注：新冠肺炎疫情期间贷后受理工作时间以我行对外公布的网点营业时间为准。）
A118: 116 | B118: 海口分行 | C118: 海口分行营业部 | D118: 754011 | E118: 海口分行营业部 | F118: 海南省海口市龙华区金贸中路1号半山花园1楼中信银行 | G118: 0898-68578310 | H118: 工作日：8:30-12:00；14:30-17：30（备注：新冠肺炎疫情期间贷后受理工作时间以我行对外公布的网点营业时间为准。）
A119: 117 | B119: 海口分行 | C119: 龙华支行 | D119: 754031 | E119: 龙华支行 | F119: 海南省海口市龙华区龙华路43-8号椰岛广场1层 | G119: 0898-66538039 | H119: 工作日：8:30-12:00；14:30-17：30（备注：新冠肺炎疫情期间贷后受理工作时间以我行对外公布的网点营业时间为准。）
A120: 118 | B120: 海口分行 | C120: 海秀路支行 | D120: 754051 | E120: 海秀路支行 | F120: 海南省海口市龙华区海秀中路94号沁园岭秀1层 | G120: 0898-68968903 | H120: 工作日：8:30-12:00；14:30-17：30（备注：新冠肺炎疫情期间贷后受理工作时间以我行对外公布的网点营业时间为准。）
... A146: 144 | B146: 杭州分行 | C146: 嘉兴分行营业部 | D146: 733301 | E146: 嘉兴分行个人贷款中心 | F146: 浙江省嘉兴市中山东路565号 | G146: 0573-82083061 | H146: 工作日：冬令时间：8:30-12:00；14:00-16:30； 夏令时间：8:30-12:00；14:00-16:30
A147: 145 | B147: 杭州分行 | C147: 南湖支行 | D147: 733351
A148: 146 | B148: 杭州分行 | C148: 秀洲支行 | D148: 733361
A149: 147 | B149: 杭州分行 | C149: 经济开发区支行 | D149: 753301
A150: 148 | B150: 杭州分行 | C150: 温州分行营业部 | D150: 733501 | E150: 温州分行营业部 | F150: 浙江省温州市市府路大自然家园二号楼 | G150: 0577-88858466 | H150: 工作日：冬令时间：8：30-12：00；13：30-17：00； 夏令时间：8：30-12：00；14：00-17：30
A151: 149 | B151: 杭州分行 | C151: 温州瑞安支行 | D151: 733551 | E151: 温州瑞安支行 | F151: 浙江省瑞安市万松东路东南大厦1-2楼 | G151: 0577-66885720 | H151: 工作日：冬令时间：8：30-12：00；13：30-17：00； 夏令时间：8：30-12：00；14：00-17：30
A152: 150 | B152: 杭州分行 | C152: 温州乐清支行 | D152: 733521 | E152: 温州乐清支行 | F152: 浙江省温州市乐清市双雁路187-191号 | G152: 0577-55776909 | H152: 工作日：冬令时间：8：30-12：00；13：30-17：00； 夏令时间：8：30-12：00；14：00-17：30
A153: 151 | B153: 杭州分行 | C153: 温州苍南支行 | D153: 753501 | E153: 温州苍南支行 | F153: 浙江省温州市苍南县车站大道456号时代都市广场5幢1-2层 | G153: 0577-68878111 | H153: 工作日：冬令时间：8.30-11.30 ； 13.30-17.00； 夏令时间8.30-12.00 14.00-17.30
A154: 152 | B154: 杭州分行 | C154: 温州瓯海支行 | D154: 733511 | E154: 温州瓯海支行 | F154: 浙江省温州市鹿城区鑫城佳园A幢一层 | G154: 0577-88538015 | H154: 工作日：冬令时间：8：30-12：00；13：30-17：00； 夏令时间：8：30-12：00；14：00-17：30
A155: 153 | B155: 杭州分行 | C155: 温州开发区支行 | D155: 733581 | E155: 温州开发区支行 | F155: 浙江省温州市龙湾区滨海一道2路988号 | G155: 0577-88502223 | H155: 工作日：冬令时间：9：00-11：45；13：30-16：30； 夏令时间：9：00-11：45；14：00-17：00
...
